BEGIN:VCALENDAR
VERSION:2.0
PRODID:-//parkenationalschool.ie - ECPv6.15.17//NONSGML v1.0//EN
CALSCALE:GREGORIAN
METHOD:PUBLISH
X-ORIGINAL-URL:https://parkenationalschool.ie
X-WR-CALDESC:Events for parkenationalschool.ie
REFRESH-INTERVAL;VALUE=DURATION:PT1H
X-Robots-Tag:noindex
X-PUBLISHED-TTL:PT1H
BEGIN:VTIMEZONE
TZID:UTC
BEGIN:STANDARD
TZOFFSETFROM:+0000
TZOFFSETTO:+0000
TZNAME:UTC
DTSTART:20250101T000000
END:STANDARD
END:VTIMEZONE
BEGIN:VEVENT
DTSTART;VALUE=DATE:20260304
DTEND;VALUE=DATE:20260305
DTSTAMP:20260422T131313
CREATED:20260214T113434Z
LAST-MODIFIED:20260214T113434Z
UID:2269-1772582400-1772668799@parkenationalschool.ie
SUMMARY:Badminton Tournament
DESCRIPTION:Badminton All Ireland Tournament 2026 \nFor 5th and 6th Class Pupils
URL:https://parkenationalschool.ie/event/badminton-tournament/
LOCATION:Baldoyle Dublin\, Baldoyle\, Dublin\, D13E8Y2\, Ireland
CATEGORIES:Badminton
END:VEVENT
END:VCALENDAR