BEGIN:VCALENDAR
VERSION:2.0
PRODID:-//parkenationalschool.ie - ECPv6.15.17//NONSGML v1.0//EN
CALSCALE:GREGORIAN
METHOD:PUBLISH
X-WR-CALNAME:parkenationalschool.ie
X-ORIGINAL-URL:https://parkenationalschool.ie
X-WR-CALDESC:Events for parkenationalschool.ie
REFRESH-INTERVAL;VALUE=DURATION:PT1H
X-Robots-Tag:noindex
X-PUBLISHED-TTL:PT1H
BEGIN:VTIMEZONE
TZID:UTC
BEGIN:STANDARD
TZOFFSETFROM:+0000
TZOFFSETTO:+0000
TZNAME:UTC
DTSTART:20240101T000000
END:STANDARD
END:VTIMEZONE
BEGIN:VEVENT
DTSTART;VALUE=DATE:20250227
DTEND;VALUE=DATE:20250228
DTSTAMP:20260423T075003
CREATED:20250211T105623Z
LAST-MODIFIED:20250211T105623Z
UID:2255-1740614400-1740700799@parkenationalschool.ie
SUMMARY:Retreat 5th/6th
DESCRIPTION:
URL:https://parkenationalschool.ie/event/retreat-5th-6th/
LOCATION:BALLINTUBBER
CATEGORIES:Religious Events
END:VEVENT
END:VCALENDAR