BEGIN:VCALENDAR
VERSION:2.0
PRODID:-//parkenationalschool.ie - ECPv6.15.17//NONSGML v1.0//EN
CALSCALE:GREGORIAN
METHOD:PUBLISH
X-ORIGINAL-URL:https://parkenationalschool.ie
X-WR-CALDESC:Events for parkenationalschool.ie
REFRESH-INTERVAL;VALUE=DURATION:PT1H
X-Robots-Tag:noindex
X-PUBLISHED-TTL:PT1H
BEGIN:VTIMEZONE
TZID:UTC
BEGIN:STANDARD
TZOFFSETFROM:+0000
TZOFFSETTO:+0000
TZNAME:UTC
DTSTART:20230101T000000
END:STANDARD
END:VTIMEZONE
BEGIN:VEVENT
DTSTART;TZID=UTC:20240612T090000
DTEND;TZID=UTC:20240612T140000
DTSTAMP:20260424T001828
CREATED:20240313T104516Z
LAST-MODIFIED:20240313T104516Z
UID:2206-1718182800-1718200800@parkenationalschool.ie
SUMMARY:JUNIOR ROOM TOUR
DESCRIPTION:
URL:https://parkenationalschool.ie/event/junior-room-tour/
CATEGORIES:SCHOOL TOURS
END:VEVENT
END:VCALENDAR